BEGIN:VCALENDAR
VERSION:2.0
PRODID:DPCALENDAR
CALSCALE:GREGORIAN
BEGIN:VTIMEZONE
TZID:Europe/Berlin
X-MICROSOFT-CDO-TZID:4
BEGIN:STANDARD
DTSTART:20251026T010000
TZOFFSETFROM:+0200
TZOFFSETTO:+0100
TZNAME:CET
END:STANDARD
BEGIN:STANDARD
DTSTART:20261025T010000
TZOFFSETFROM:+0200
TZOFFSETTO:+0100
TZNAME:CET
END:STANDARD
BEGIN:DAYLIGHT
DTSTART:20260329T010000
TZOFFSETFROM:+0100
TZOFFSETTO:+0200
TZNAME:CEST
END:DAYLIGHT
END:VTIMEZONE
X-WR-TIMEZONE:Europe/Berlin
BEGIN:VEVENT
DTSTART;TZID=Europe/Berlin:20250615T110000
DTEND;TZID=Europe/Berlin:20250615T120000
UID:05451AD0-07BD-4E74-A362-E518A9BFDA84
SUMMARY:Wir laden herzlich zum ersten TuS internen Spaß-Tennisturnier ein!
CREATED:20250506T131948Z
DTSTAMP:20250506T131948Z
URL:https://www.tus-hoheneggelsen.de/index.php/home/veranstaltungen/wir-laden-herzlich-zum-ersten-tus-internen-spass-tennisturnier-ein.html
LAST-MODIFIED:20250506T131948Z
SEQUENCE:0
LOCATION:Friedrich-Ludwig-Jahn-Straße 3\, 31185 Söhlde\, Niedersachsen
GEO:52.20643990;10.17850810
X-LOCATION-DISPLAYNAME:Tennisplatz TuS Hoheneggelsen von 1892 e. V.
X-ACCESS:1
X-HITS:109
X-COLOR:3366cc
X-SHOW-END-TIME:0
END:VEVENT
END:VCALENDAR