BEGIN:VCALENDAR
VERSION:2.0
PRODID:DPCALENDAR
CALSCALE:GREGORIAN
BEGIN:VTIMEZONE
TZID:Europe/Berlin
X-MICROSOFT-CDO-TZID:4
BEGIN:STANDARD
DTSTART:20251026T010000
TZOFFSETFROM:+0200
TZOFFSETTO:+0100
TZNAME:CET
END:STANDARD
BEGIN:STANDARD
DTSTART:20261025T010000
TZOFFSETFROM:+0200
TZOFFSETTO:+0100
TZNAME:CET
END:STANDARD
BEGIN:DAYLIGHT
DTSTART:20260329T010000
TZOFFSETFROM:+0100
TZOFFSETTO:+0200
TZNAME:CEST
END:DAYLIGHT
END:VTIMEZONE
X-WR-TIMEZONE:Europe/Berlin
BEGIN:VEVENT
DTSTART;TZID=Europe/Berlin:20240915T100000
DTEND;TZID=Europe/Berlin:20240915T110000
UID:3F5EC10D-DA4F-457D-83FD-903D81CDE06F
SUMMARY:Tischtennis - TuS Hoheneggelsen III gegen RV Kehrwieder Dinklar III - Herrenpunktspiel
CREATED:20240911T121228Z
DTSTAMP:20240911T121228Z
URL:https://www.tus-hoheneggelsen.de/index.php/home/veranstaltungen/tischtennis-tus-hoheneggelsen-iii-gegen-rv-kehrwieder-dinklar-iii-herrenpunktspiel.html
LAST-MODIFIED:20240911T140800Z
SEQUENCE:6932
LOCATION:Friedrich-Ludwig-Jahn-Straße 2\, 31185 Hoheneggelsen\, Niedersachsen
GEO:52.20673000;10.17998000
X-LOCATION-DISPLAYNAME:Bördehalle Hoheneggelsen
X-ACCESS:1
X-HITS:52
X-COLOR:cc2121
X-SHOW-END-TIME:1
END:VEVENT
BEGIN:VEVENT
DTSTART;TZID=Europe/Berlin:20240922T100000
DTEND;TZID=Europe/Berlin:20240922T110000
UID:611F377D-789D-46EF-B21B-EACB0CF2D053
SUMMARY:Tischtennis - TTC Lechstedt III gegen TuS Hoheneggelsen III - Herrenpunktspiel
CREATED:20240911T121228Z
DTSTAMP:20240911T121228Z
URL:https://www.tus-hoheneggelsen.de/index.php/home/veranstaltungen/tischtennis-ttc-lechstedt-iii-gegen-tus-hoheneggelsen-iii-herrenpunktspiel.html
LAST-MODIFIED:20240911T140620Z
SEQUENCE:6832
LOCATION:Ortsfeld 10\, 31162 Lechstedt\, Niedersachsen
GEO:52.11726200;10.02393800
X-LOCATION-DISPLAYNAME:Tischtennishalle Lechstedt
X-ACCESS:1
X-HITS:73
X-COLOR:cc2121
X-SHOW-END-TIME:1
END:VEVENT
BEGIN:VEVENT
DTSTART;TZID=Europe/Berlin:20241026T180000
DTEND;TZID=Europe/Berlin:20241026T190000
UID:1B72908A-6F47-4FEA-AE1C-A534F2074E9A
SUMMARY:Tischtennis - TTC Edelweiß Klein Elbe V gegen TuS Hoheneggelsen III - Herrenpunktspiel
CREATED:20240911T121228Z
DTSTAMP:20240911T121228Z
URL:https://www.tus-hoheneggelsen.de/index.php/home/veranstaltungen/tischtennis-ttc-edelweiss-klein-elbe-v-gegen-tus-hoheneggelsen-iii-herrenpunktspiel.html
LAST-MODIFIED:20240911T141134Z
SEQUENCE:7146
LOCATION:Dammweg 4\, 38274 Elbe\, Niedersachsen
GEO:52.08631040;10.26863830
X-LOCATION-DISPLAYNAME:Sporthalle Elbe
X-ACCESS:1
X-HITS:93
X-COLOR:cc2121
X-SHOW-END-TIME:1
END:VEVENT
BEGIN:VEVENT
DTSTART;TZID=Europe/Berlin:20241103T100000
DTEND;TZID=Europe/Berlin:20241103T110000
UID:DCD30DF5-8D5D-4759-9A5F-4CA6152988C5
SUMMARY:Tischtennis - TT Ambergau (SG) III gegen TuS Hoheneggelsen III - Herrenpunktspiel
CREATED:20240911T121228Z
DTSTAMP:20240911T121228Z
URL:https://www.tus-hoheneggelsen.de/index.php/home/veranstaltungen/tischtennis-tt-ambergau-sg-iii-gegen-tus-hoheneggelsen-iii-herrenpunktspiel.html
LAST-MODIFIED:20240912T092105Z
SEQUENCE:76117
LOCATION:Mahlumer Straße 20\, 31167 Bockenem\, Niedersachsen\, Deutschland
GEO:52.00668570;10.14158971
X-LOCATION-DISPLAYNAME:Wilhelm-Busch-Halle Ambergau
X-ACCESS:1
X-HITS:345
X-COLOR:cc2121
X-SHOW-END-TIME:1
END:VEVENT
BEGIN:VEVENT
DTSTART;TZID=Europe/Berlin:20241110T100000
DTEND;TZID=Europe/Berlin:20241110T110000
UID:9DBE23C1-8F20-4EBA-A128-6D6FFD211344
SUMMARY:Tischtennis - SC Bettmar II gegen TuS Hoheneggelsen III - Herrenpunktspiel
CREATED:20240911T121228Z
DTSTAMP:20240911T121228Z
URL:https://www.tus-hoheneggelsen.de/index.php/home/veranstaltungen/tischtennis-sc-bettmar-ii-gegen-tus-hoheneggelsen-iii-herrenpunktspiel.html
LAST-MODIFIED:20240911T141300Z
SEQUENCE:7232
LOCATION:Hildesheimer Straße \, 31174 Schellerten\, Niedersachsen
GEO:52.17179600;10.03717700
X-LOCATION-DISPLAYNAME: Sporthalle Bettmar
X-ACCESS:1
X-HITS:73
X-COLOR:cc2121
X-SHOW-END-TIME:1
END:VEVENT
BEGIN:VEVENT
DTSTART;TZID=Europe/Berlin:20241123T180000
DTEND;TZID=Europe/Berlin:20241123T190000
UID:B1D6BD30-F626-45BC-9D56-D3116AEDA2DF
SUMMARY:Tischtennis - TuS Hoheneggelsen III gegen MTV Kemme - Herrenpunktspiel
CREATED:20240911T121228Z
DTSTAMP:20240911T121228Z
URL:https://www.tus-hoheneggelsen.de/index.php/home/veranstaltungen/tischtennis-tus-hoheneggelsen-iii-gegen-mtv-kemme-herrenpunktspiel.html
LAST-MODIFIED:20240911T140846Z
SEQUENCE:6978
LOCATION:Friedrich-Ludwig-Jahn-Straße 2\, 31185 Hoheneggelsen\, Niedersachsen
GEO:52.20673000;10.17998000
X-LOCATION-DISPLAYNAME:Bördehalle Hoheneggelsen
X-ACCESS:1
X-HITS:132
X-COLOR:cc2121
X-SHOW-END-TIME:1
END:VEVENT
BEGIN:VEVENT
DTSTART;TZID=Europe/Berlin:20241124T100000
DTEND;TZID=Europe/Berlin:20241124T110000
UID:6924064A-2D7F-4897-BD93-670BD472E432
SUMMARY:Tischtennis - TuS Hoheneggelsen III gegen SV Egenstedt II - Herrenpunktspiel
CREATED:20240911T121228Z
DTSTAMP:20240911T121228Z
URL:https://www.tus-hoheneggelsen.de/index.php/home/veranstaltungen/tischtennis-tus-hoheneggelsen-iii-gegen-sv-egenstedt-ii-herrenpunktspiel.html
LAST-MODIFIED:20240911T140907Z
SEQUENCE:6999
LOCATION:Friedrich-Ludwig-Jahn-Straße 2\, 31185 Hoheneggelsen\, Niedersachsen
GEO:52.20673000;10.17998000
X-LOCATION-DISPLAYNAME:Bördehalle Hoheneggelsen
X-ACCESS:1
X-HITS:149
X-COLOR:cc2121
X-SHOW-END-TIME:1
END:VEVENT
BEGIN:VEVENT
DTSTART;TZID=Europe/Berlin:20241208T100000
DTEND;TZID=Europe/Berlin:20241208T110000
UID:D07F42BB-2502-4F0D-8997-307E65346B90
SUMMARY:Tischtennis - TuS Hoheneggelsen III gegen TuS Grün-Weiß Himmelsthür V - Herrenpunktspiel
CREATED:20240911T121228Z
DTSTAMP:20240911T121228Z
URL:https://www.tus-hoheneggelsen.de/index.php/home/veranstaltungen/tischtennis-tus-hoheneggelsen-iii-gegen-tus-gruen-weiss-himmelsthuer-v-herrenpunktspiel.html
LAST-MODIFIED:20240911T140923Z
SEQUENCE:7015
LOCATION:Friedrich-Ludwig-Jahn-Straße 2\, 31185 Hoheneggelsen\, Niedersachsen
GEO:52.20673000;10.17998000
X-LOCATION-DISPLAYNAME:Bördehalle Hoheneggelsen
X-ACCESS:1
X-HITS:172
X-COLOR:cc2121
X-SHOW-END-TIME:1
END:VEVENT
BEGIN:VEVENT
DTSTART;TZID=Europe/Berlin:20250111T170000
DTEND;TZID=Europe/Berlin:20250111T180000
UID:9DBE23C1-8F20-4EBA-A128-6D6FFD211344
SUMMARY:Tischtennis - MTV Kemme gegen TuS Hoheneggelsen III - Herrenpunktspiel
CREATED:20240911T121228Z
DTSTAMP:20240911T121228Z
URL:https://www.tus-hoheneggelsen.de/index.php/home/veranstaltungen/tischtennis-mtv-kemme-gegen-tus-hoheneggelsen-iii-herrenpunktspiel.html
LAST-MODIFIED:20241228T201540Z
SEQUENCE:9360192
LOCATION:Mittelstraße\, 31174 Kemme\, Deutschland
GEO:52.17999751;10.06941014
X-LOCATION-DISPLAYNAME:Turnhalle Kemme
X-ACCESS:1
X-HITS:117
X-COLOR:cc2121
X-SHOW-END-TIME:0
END:VEVENT
BEGIN:VEVENT
DTSTART;TZID=Europe/Berlin:20250119T100000
DTEND;TZID=Europe/Berlin:20250119T110000
UID:D07F42BB-2502-4F0D-8997-307E65346B90
SUMMARY:Tischtennis - TuS Hoheneggelsen III gegen SC Bettmar II - Herrenpunktspiel
CREATED:20240911T121228Z
DTSTAMP:20240911T121228Z
URL:https://www.tus-hoheneggelsen.de/index.php/home/veranstaltungen/tischtennis-tus-hoheneggelsen-iii-gegen-sc-bettmar-ii-herrenpunktspiel.html
LAST-MODIFIED:20241228T200143Z
SEQUENCE:9359355
LOCATION:Friedrich-Ludwig-Jahn-Straße 2\, 31185 Hoheneggelsen\, Niedersachsen
GEO:52.20673000;10.17998000
X-LOCATION-DISPLAYNAME:Bördehalle Hoheneggelsen
X-ACCESS:1
X-HITS:105
X-COLOR:cc2121
X-SHOW-END-TIME:0
END:VEVENT
BEGIN:VEVENT
DTSTART;TZID=Europe/Berlin:20250126T100000
DTEND;TZID=Europe/Berlin:20250126T110000
UID:9DBE23C1-8F20-4EBA-A128-6D6FFD211344
SUMMARY:Tischtennis - RV Kehrwieder Dinklar III gegen TuS Hoheneggelsen III - Herrenpunktspiel
CREATED:20240911T121228Z
DTSTAMP:20240911T121228Z
URL:https://www.tus-hoheneggelsen.de/index.php/home/veranstaltungen/tischtennis-rv-kehrwieder-dinklar-iii-gegen-tus-hoheneggelsen-iii-herrenpunktspiel.html
LAST-MODIFIED:20241228T200732Z
SEQUENCE:9359704
LOCATION:Breite Straße 4\, 31174 Dinklar\, Niedersachsen
GEO:52.16417000;10.06443000
X-LOCATION-DISPLAYNAME:Sporthalle Dinklar
X-ACCESS:1
X-HITS:87
X-COLOR:cc2121
X-SHOW-END-TIME:0
END:VEVENT
BEGIN:VEVENT
DTSTART;TZID=Europe/Berlin:20250208T180000
DTEND;TZID=Europe/Berlin:20250208T190000
UID:D07F42BB-2502-4F0D-8997-307E65346B90
SUMMARY:Tischtennis - TuS Hoheneggelsen III gegen TTC Edelweiß Klein Elbe V - Herrenpunktspiel
CREATED:20240911T121228Z
DTSTAMP:20240911T121228Z
URL:https://www.tus-hoheneggelsen.de/index.php/home/veranstaltungen/tischtennis-tus-hoheneggelsen-iii-gegen-ttc-edelweiss-klein-elbe-v-herrenpunktspiel.html
LAST-MODIFIED:20241228T200229Z
SEQUENCE:9359401
LOCATION:Friedrich-Ludwig-Jahn-Straße 2\, 31185 Hoheneggelsen\, Niedersachsen
GEO:52.20673000;10.17998000
X-LOCATION-DISPLAYNAME:Bördehalle Hoheneggelsen
X-ACCESS:1
X-HITS:105
X-COLOR:cc2121
X-SHOW-END-TIME:0
END:VEVENT
BEGIN:VEVENT
DTSTART;TZID=Europe/Berlin:20250215T180000
DTEND;TZID=Europe/Berlin:20250215T190000
UID:9DBE23C1-8F20-4EBA-A128-6D6FFD211344
SUMMARY:Tischtennis - RSV Achtum IV gegen TuS Hoheneggelsen III - Herrenpunktspiel
CREATED:20240911T121228Z
DTSTAMP:20240911T121228Z
URL:https://www.tus-hoheneggelsen.de/index.php/home/veranstaltungen/tischtennis-rsv-achtum-iv-gegen-tus-hoheneggelsen-iii-herrenpunktspiel.html
LAST-MODIFIED:20241228T200825Z
SEQUENCE:9359757
LOCATION:Achtumer Lindenkamp 1\, 31135 Hildesheim - Achtum\, Niedersachsen
GEO:52.14780230;10.00451570
X-LOCATION-DISPLAYNAME:Turnhalle Achtum 
X-ACCESS:1
X-HITS:141
X-COLOR:cc2121
X-SHOW-END-TIME:0
END:VEVENT
BEGIN:VEVENT
DTSTART;TZID=Europe/Berlin:20250308T180000
DTEND;TZID=Europe/Berlin:20250308T190000
UID:9DBE23C1-8F20-4EBA-A128-6D6FFD211344
SUMMARY:Tischtennis - TuS Grün-Weiß Himmelsthür V gegen TuS Hoheneggelsen III - Herrenpunktspiel
CREATED:20240911T121228Z
DTSTAMP:20240911T121228Z
URL:https://www.tus-hoheneggelsen.de/index.php/home/veranstaltungen/tischtennis-tus-gruen-weiss-himmelsthuer-v-gegen-tus-hoheneggelsen-iii-herrenpunktspiel.html
LAST-MODIFIED:20241228T200955Z
SEQUENCE:9359847
LOCATION:Hoher Turm\, 31137 Hildesheim\, Niedersachsen
GEO:52.15945990;9.91832410
X-LOCATION-DISPLAYNAME:Turnhalle Grundschule Himmelsthür
X-ACCESS:1
X-HITS:131
X-COLOR:cc2121
X-SHOW-END-TIME:0
END:VEVENT
BEGIN:VEVENT
DTSTART;TZID=Europe/Berlin:20250309T100000
DTEND;TZID=Europe/Berlin:20250309T110000
UID:D07F42BB-2502-4F0D-8997-307E65346B90
SUMMARY:Tischtennis - TuS Hoheneggelsen III gegen TTC Lechstedt III - Herrenpunktspiel
CREATED:20240911T121228Z
DTSTAMP:20240911T121228Z
URL:https://www.tus-hoheneggelsen.de/index.php/home/veranstaltungen/tischtennis-tus-hoheneggelsen-iii-gegen-ttc-lechstedt-iii-herrenpunktspiel.html
LAST-MODIFIED:20241228T200314Z
SEQUENCE:9359446
LOCATION:Friedrich-Ludwig-Jahn-Straße 2\, 31185 Hoheneggelsen\, Niedersachsen
GEO:52.20673000;10.17998000
X-LOCATION-DISPLAYNAME:Bördehalle Hoheneggelsen
X-ACCESS:1
X-HITS:103
X-COLOR:cc2121
X-SHOW-END-TIME:0
END:VEVENT
BEGIN:VEVENT
DTSTART;TZID=Europe/Berlin:20250315T180000
DTEND;TZID=Europe/Berlin:20250315T190000
UID:9DBE23C1-8F20-4EBA-A128-6D6FFD211344
SUMMARY:Tischtennis - SV Egenstedt II gegen TuS Hoheneggelsen III - Herrenpunktspiel
CREATED:20240911T121228Z
DTSTAMP:20240911T121228Z
URL:https://www.tus-hoheneggelsen.de/index.php/home/veranstaltungen/tischtennis-sv-egenstedt-ii-gegen-tus-hoheneggelsen-iii-herrenpunktspiel.html
LAST-MODIFIED:20241228T201050Z
SEQUENCE:9359902
LOCATION:Triftstraße 15\, 31199 Egenstedt\, Niedersachsen
GEO:52.10156740;9.99390510
X-LOCATION-DISPLAYNAME:Mehrzweckraum Egenstedt 
X-ACCESS:1
X-HITS:84
X-COLOR:cc2121
X-SHOW-END-TIME:0
END:VEVENT
BEGIN:VEVENT
DTSTART;TZID=Europe/Berlin:20250329T170000
DTEND;TZID=Europe/Berlin:20250329T180000
UID:D07F42BB-2502-4F0D-8997-307E65346B90
SUMMARY:Tischtennis - TuS Hoheneggelsen III gegen TT Ambergau (SG) III - Herrenpunktspiel
CREATED:20240911T121228Z
DTSTAMP:20240911T121228Z
URL:https://www.tus-hoheneggelsen.de/index.php/home/veranstaltungen/tischtennis-tus-hoheneggelsen-iii-gegen-tt-ambergau-sg-iii-herrenpunktspiel.html
LAST-MODIFIED:20241228T200357Z
SEQUENCE:9359489
LOCATION:Friedrich-Ludwig-Jahn-Straße 2\, 31185 Hoheneggelsen\, Niedersachsen
GEO:52.20673000;10.17998000
X-LOCATION-DISPLAYNAME:Bördehalle Hoheneggelsen
X-ACCESS:1
X-HITS:144
X-COLOR:cc2121
X-SHOW-END-TIME:0
END:VEVENT
BEGIN:VEVENT
DTSTART;TZID=Europe/Berlin:20250906T180000
DTEND;TZID=Europe/Berlin:20250906T190000
UID:0C9217E8-45E2-497A-BE91-AA9CAB91100F
SUMMARY:Tischtennis - TTC Edelweiß Klein Elbe IV gegen TuS Hoheneggelsen III - Herrenpunktspiel
CREATED:20240911T121228Z
DTSTAMP:20240911T121228Z
URL:https://www.tus-hoheneggelsen.de/index.php/home/veranstaltungen/tischtennis-ttc-edelweiss-klein-elbe-iv-gegen-tus-hoheneggelsen-iii-herrenpunktspiel.html
LAST-MODIFIED:20250822T063339Z
SEQUENCE:29787671
LOCATION:Dammweg 4\, 38274 Elbe\, Niedersachsen
GEO:52.08631040;10.26863830
X-LOCATION-DISPLAYNAME:Sporthalle Elbe
X-ACCESS:1
X-HITS:51
X-COLOR:cc2121
X-SHOW-END-TIME:0
END:VEVENT
BEGIN:VEVENT
DTSTART;TZID=Europe/Berlin:20250912T200000
DTEND;TZID=Europe/Berlin:20250912T210000
UID:7F567FAB-A8CC-48FE-B178-4B4A3E1F4B3C
SUMMARY:Tischtennis - TTC Binder gegen TuS Hoheneggelsen III - Herrenpunktspiel
CREATED:20240911T121228Z
DTSTAMP:20240911T121228Z
URL:https://www.tus-hoheneggelsen.de/index.php/home/veranstaltungen/tischtennis-ttc-binder-gegen-tus-hoheneggelsen-iii-herrenpunktspiel.html
LAST-MODIFIED:20250822T063357Z
SEQUENCE:29787689
LOCATION:Hauptstraße\, 38271 Binder\, Niedersachsen
GEO:52.09266100;10.19459100
X-LOCATION-DISPLAYNAME:Dorfgemeinschaftshaus Binder
X-ACCESS:1
X-HITS:63
X-COLOR:cc2121
X-SHOW-END-TIME:0
END:VEVENT
BEGIN:VEVENT
DTSTART;TZID=Europe/Berlin:20251019T090000
DTEND;TZID=Europe/Berlin:20251019T100000
UID:0F91C6C0-6BA5-4DB8-9FB3-796B5A89B037
SUMMARY:Tischtennis - TV Eiche Dingelbe gegen TuS Hoheneggelsen III - Herrenpunktspiel
CREATED:20240911T121228Z
DTSTAMP:20240911T121228Z
URL:https://www.tus-hoheneggelsen.de/index.php/home/veranstaltungen/tischtennis-tv-eiche-dingelbe-gegen-tus-hoheneggelsen-iii-herrenpunktspiel.html
LAST-MODIFIED:20250822T063141Z
SEQUENCE:29787553
LOCATION:Zuckerfabrik\, 31174 Dingelbe\, Niedersachsen
GEO:52.17310600;10.14202600
X-LOCATION-DISPLAYNAME:Sporthalle Dingelbe
X-ACCESS:1
X-HITS:64
X-COLOR:cc2121
X-SHOW-END-TIME:0
END:VEVENT
BEGIN:VEVENT
DTSTART;TZID=Europe/Berlin:20251025T190000
DTEND;TZID=Europe/Berlin:20251025T200000
UID:2185EFBF-FF15-4011-BD17-6AC80FB8362E
SUMMARY:Tischtennis - TuS Hoheneggelsen III gegen TuS Nettlingen II - Herrenpunktspiel
CREATED:20240911T121228Z
DTSTAMP:20240911T121228Z
URL:https://www.tus-hoheneggelsen.de/index.php/home/veranstaltungen/tischtennis-tus-hoheneggelsen-iii-gegen-tus-nettlingen-ii-herrenpunktspiel.html
LAST-MODIFIED:20250822T063405Z
SEQUENCE:29787697
LOCATION:Friedrich-Ludwig-Jahn-Straße 2\, 31185 Hoheneggelsen\, Niedersachsen
GEO:52.20673000;10.17998000
X-LOCATION-DISPLAYNAME:Bördehalle Hoheneggelsen
X-ACCESS:1
X-HITS:86
X-COLOR:cc2121
X-SHOW-END-TIME:0
END:VEVENT
BEGIN:VEVENT
DTSTART;TZID=Europe/Berlin:20251101T180000
DTEND;TZID=Europe/Berlin:20251101T190000
UID:97A6DA4A-FEE0-4F64-B538-3758B00B6DAD
SUMMARY:Tischtennis - TuS Hoheneggelsen III gegen TTC Edelweiß Klein Elbe III - Herrenpunktspiel
CREATED:20240911T121228Z
DTSTAMP:20240911T121228Z
URL:https://www.tus-hoheneggelsen.de/index.php/home/veranstaltungen/tischtennis-tus-hoheneggelsen-iii-gegen-ttc-edelweiss-klein-elbe-iii-herrenpunktspiel.html
LAST-MODIFIED:20250822T063413Z
SEQUENCE:29787705
LOCATION:Friedrich-Ludwig-Jahn-Straße 2\, 31185 Hoheneggelsen\, Niedersachsen
GEO:52.20673000;10.17998000
X-LOCATION-DISPLAYNAME:Bördehalle Hoheneggelsen
X-ACCESS:1
X-HITS:112
X-COLOR:cc2121
X-SHOW-END-TIME:0
END:VEVENT
BEGIN:VEVENT
DTSTART;TZID=Europe/Berlin:20251116T100000
DTEND;TZID=Europe/Berlin:20251116T110000
UID:88F09F37-F805-4757-BAB9-F53A5587B817
SUMMARY:Tischtennis - MTV Kemme gegen TuS Hoheneggelsen III - Herrenpunktspiel
CREATED:20240911T121228Z
DTSTAMP:20240911T121228Z
URL:https://www.tus-hoheneggelsen.de/index.php/home/veranstaltungen/tischtennis-mtv-kemme-gegen-tus-hoheneggelsen-iii-herrenpunktspiel-2.html
LAST-MODIFIED:20250822T063219Z
SEQUENCE:29787591
LOCATION:Mittelstraße\, 31174 Kemme\, Deutschland
GEO:52.17999751;10.06941014
X-LOCATION-DISPLAYNAME:Turnhalle Kemme
X-ACCESS:1
X-HITS:73
X-COLOR:cc2121
X-SHOW-END-TIME:0
END:VEVENT
BEGIN:VEVENT
DTSTART;TZID=Europe/Berlin:20251129T180000
DTEND;TZID=Europe/Berlin:20251129T190000
UID:5FB1AA5A-0484-4C57-B705-A03A716AE231
SUMMARY:Tischtennis - TuS Hoheneggelsen III gegen TSV Söhlde - Herrenpunktspiel
CREATED:20240911T121228Z
DTSTAMP:20240911T121228Z
URL:https://www.tus-hoheneggelsen.de/index.php/home/veranstaltungen/tischtennis-tus-hoheneggelsen-iii-gegen-tsv-soehlde-herrenpunktspiel.html
LAST-MODIFIED:20250822T063456Z
SEQUENCE:29787748
LOCATION:Friedrich-Ludwig-Jahn-Straße 2\, 31185 Hoheneggelsen\, Niedersachsen
GEO:52.20673000;10.17998000
X-LOCATION-DISPLAYNAME:Bördehalle Hoheneggelsen
X-ACCESS:1
X-HITS:90
X-COLOR:cc2121
X-SHOW-END-TIME:0
END:VEVENT
BEGIN:VEVENT
DTSTART;TZID=Europe/Berlin:20251130T100000
DTEND;TZID=Europe/Berlin:20251130T100000
UID:C3581140-F1DC-46F7-AB1E-C2F8BA2D8BCD
SUMMARY:Tischtennis - SC Bettmar II gegen TuS Hoheneggelsen III - Herrenpunktspiel
CREATED:20240911T121228Z
DTSTAMP:20240911T121228Z
URL:https://www.tus-hoheneggelsen.de/index.php/home/veranstaltungen/tischtennis-sc-bettmar-ii-gegen-tus-hoheneggelsen-iii-herrenpunktspiel-2.html
LAST-MODIFIED:20250822T063443Z
SEQUENCE:29787735
LOCATION:Hildesheimer Straße \, 31174 Schellerten\, Niedersachsen
GEO:52.17179600;10.03717700
X-LOCATION-DISPLAYNAME: Sporthalle Bettmar
X-ACCESS:1
X-HITS:82
X-COLOR:cc2121
X-SHOW-END-TIME:0
END:VEVENT
BEGIN:VEVENT
DTSTART;TZID=Europe/Berlin:20260110T180000
DTEND;TZID=Europe/Berlin:20260110T190000
UID:A53D1411-6D4D-4417-A061-2DAFAC42F213
SUMMARY:Tischtennis - TuS Hoheneggelsen III gegen SC Bettmar II - Herrenpunktspiel
CREATED:20240911T121228Z
DTSTAMP:20240911T121228Z
URL:https://www.tus-hoheneggelsen.de/index.php/home/veranstaltungen/tischtennis-tus-hoheneggelsen-iii-gegen-sc-bettmar-ii-herrenpunktspiel-2.html
LAST-MODIFIED:20260108T053715Z
SEQUENCE:41793887
LOCATION:Friedrich-Ludwig-Jahn-Straße 2\, 31185 Hoheneggelsen\, Niedersachsen
GEO:52.20673000;10.17998000
X-LOCATION-DISPLAYNAME:Bördehalle Hoheneggelsen
X-ACCESS:1
X-HITS:50
X-COLOR:cc2121
X-SHOW-END-TIME:0
END:VEVENT
BEGIN:VEVENT
DTSTART;TZID=Europe/Berlin:20260125T100000
DTEND;TZID=Europe/Berlin:20260125T110000
UID:65477A32-CB88-4390-9E03-38B1937FF6F2
SUMMARY:Tischtennis - TuS Hoheneggelsen III gegen TTC Binder - Herrenpunktspiel
CREATED:20240911T121228Z
DTSTAMP:20240911T121228Z
URL:https://www.tus-hoheneggelsen.de/index.php/home/veranstaltungen/tischtennis-tus-hoheneggelsen-iii-gegen-ttc-binder-herrenpunktspiel.html
LAST-MODIFIED:20260108T053743Z
SEQUENCE:41793915
LOCATION:Friedrich-Ludwig-Jahn-Straße 2\, 31185 Hoheneggelsen\, Niedersachsen
GEO:52.20673000;10.17998000
X-LOCATION-DISPLAYNAME:Bördehalle Hoheneggelsen
X-ACCESS:1
X-HITS:60
X-COLOR:cc2121
X-SHOW-END-TIME:0
END:VEVENT
BEGIN:VEVENT
DTSTART;TZID=Europe/Berlin:20260208T100000
DTEND;TZID=Europe/Berlin:20260208T110000
UID:AD3A6170-8B75-4C42-9565-3CD231254B3B
SUMMARY:Tischtennis - TuS Hoheneggelsen III gegen MTV Kemme - Herrenpunktspiel
CREATED:20240911T121228Z
DTSTAMP:20240911T121228Z
URL:https://www.tus-hoheneggelsen.de/index.php/home/veranstaltungen/tischtennis-tus-hoheneggelsen-iii-gegen-mtv-kemme-herrenpunktspiel-2.html
LAST-MODIFIED:20260108T053807Z
SEQUENCE:41793939
LOCATION:Friedrich-Ludwig-Jahn-Straße 2\, 31185 Hoheneggelsen\, Niedersachsen
GEO:52.20673000;10.17998000
X-LOCATION-DISPLAYNAME:Bördehalle Hoheneggelsen
X-ACCESS:1
X-HITS:56
X-COLOR:cc2121
X-SHOW-END-TIME:0
END:VEVENT
BEGIN:VEVENT
DTSTART;TZID=Europe/Berlin:20260208T100000
DTEND;TZID=Europe/Berlin:20260208T110000
UID:520429C8-710B-4F8D-A022-A32627C2E060
SUMMARY:Tischtennis - TuS Hoheneggelsen III gegen MTV Kemme - Herrenpunktspiel
CREATED:20240911T121228Z
DTSTAMP:20240911T121228Z
URL:https://www.tus-hoheneggelsen.de/index.php/home/veranstaltungen/tischtennis-tus-hoheneggelsen-iii-gegen-mtv-kemme-herrenpunktspiel-3.html
LAST-MODIFIED:20260108T053823Z
SEQUENCE:41793955
LOCATION:Friedrich-Ludwig-Jahn-Straße 2\, 31185 Hoheneggelsen\, Niedersachsen
GEO:52.20673000;10.17998000
X-LOCATION-DISPLAYNAME:Bördehalle Hoheneggelsen
X-ACCESS:1
X-HITS:48
X-COLOR:cc2121
X-SHOW-END-TIME:0
END:VEVENT
BEGIN:VEVENT
DTSTART;TZID=Europe/Berlin:20260220T200000
DTEND;TZID=Europe/Berlin:20260220T210000
UID:F8BBBAC4-DE9A-47C9-901E-85ACD40F4656
SUMMARY:Tischtennis - TTC Edelweiß Klein Elbe III gegen TuS Hoheneggelsen III - Herrenpunktspiel
CREATED:20240911T121228Z
DTSTAMP:20240911T121228Z
URL:https://www.tus-hoheneggelsen.de/index.php/home/veranstaltungen/tischtennis-ttc-edelweiss-klein-elbe-iii-gegen-tus-hoheneggelsen-iii-herrenpunktspiel.html
LAST-MODIFIED:20260108T054015Z
SEQUENCE:41794067
LOCATION:Dammweg 4\, 38274 Elbe\, Niedersachsen
GEO:52.08631040;10.26863830
X-LOCATION-DISPLAYNAME:Sporthalle Elbe
X-ACCESS:1
X-HITS:40
X-COLOR:cc2121
X-SHOW-END-TIME:0
END:VEVENT
BEGIN:VEVENT
DTSTART;TZID=Europe/Berlin:20260307T180000
DTEND;TZID=Europe/Berlin:20260307T190000
UID:AEDC77FA-BE7D-47CB-858D-ABE59EF76A6C
SUMMARY:Tischtennis - TuS Nettlingen II gegen TuS Hoheneggelsen III - Herrenpunktspiel
CREATED:20240911T121228Z
DTSTAMP:20240911T121228Z
URL:https://www.tus-hoheneggelsen.de/index.php/home/veranstaltungen/tischtennis-tus-nettlingen-ii-gegen-tus-hoheneggelsen-iii-herrenpunktspiel.html
LAST-MODIFIED:20260108T054053Z
SEQUENCE:41794105
LOCATION:Am Park 3A\, 31185 Nettlingen\, Niedersachsen
GEO:52.16246520;10.15448660
X-LOCATION-DISPLAYNAME:Turnhalle Nettlingen
X-ACCESS:1
X-HITS:43
X-COLOR:cc2121
X-SHOW-END-TIME:0
END:VEVENT
BEGIN:VEVENT
DTSTART;TZID=Europe/Berlin:20260308T100000
DTEND;TZID=Europe/Berlin:20260308T110000
UID:EC29C30A-78EF-411E-9FDA-80EBEAF6BE7C
SUMMARY:Tischtennis - TuS Hoheneggelsen III gegen TV Eiche Dingelbe - Herrenpunktspiel
CREATED:20240911T121228Z
DTSTAMP:20240911T121228Z
URL:https://www.tus-hoheneggelsen.de/index.php/home/veranstaltungen/tischtennis-tus-hoheneggelsen-iii-gegen-tv-eiche-dingelbe-herrenpunktspiel.html
LAST-MODIFIED:20260108T053848Z
SEQUENCE:41793980
LOCATION:Friedrich-Ludwig-Jahn-Straße 2\, 31185 Hoheneggelsen\, Niedersachsen
GEO:52.20673000;10.17998000
X-LOCATION-DISPLAYNAME:Bördehalle Hoheneggelsen
X-ACCESS:1
X-HITS:71
X-COLOR:cc2121
X-SHOW-END-TIME:0
END:VEVENT
BEGIN:VEVENT
DTSTART;TZID=Europe/Berlin:20260322T100000
DTEND;TZID=Europe/Berlin:20260322T110000
UID:064675B7-2A06-46CE-B143-12302213A9A3
SUMMARY:Tischtennis - TSV Söhlde gegen TuS Hoheneggelsen III - Herrenpunktspiel
CREATED:20240911T121228Z
DTSTAMP:20240911T121228Z
URL:https://www.tus-hoheneggelsen.de/index.php/home/veranstaltungen/tischtennis-tsv-soehlde-gegen-tus-hoheneggelsen-iii-herrenpunktspiel.html
LAST-MODIFIED:20260108T054134Z
SEQUENCE:41794146
LOCATION:Hinterm Knick\, 31185 Söhlde\, Niedersachsen
GEO:52.18591300;10.23570400
X-LOCATION-DISPLAYNAME:Sporthallle der GS Söhlde
X-ACCESS:1
X-HITS:41
X-COLOR:cc2121
X-SHOW-END-TIME:0
END:VEVENT
BEGIN:VEVENT
DTSTART;TZID=Europe/Berlin:20260419T100000
DTEND;TZID=Europe/Berlin:20260419T110000
UID:C00379D9-E693-413A-9CC3-F8F3CEC5AAB1
SUMMARY:Tischtennis - TuS Hoheneggelsen III gegen TTC Edelweiß Klein Elbe IV - Herrenpunktspiel
CREATED:20240911T121228Z
DTSTAMP:20240911T121228Z
URL:https://www.tus-hoheneggelsen.de/index.php/home/veranstaltungen/tischtennis-tus-hoheneggelsen-iii-gegen-ttc-edelweiss-klein-elbe-iv-herrenpunktspiel.html
LAST-MODIFIED:20260108T053914Z
SEQUENCE:41794006
LOCATION:Friedrich-Ludwig-Jahn-Straße 2\, 31185 Hoheneggelsen\, Niedersachsen
GEO:52.20673000;10.17998000
X-LOCATION-DISPLAYNAME:Bördehalle Hoheneggelsen
X-ACCESS:1
X-HITS:65
X-COLOR:cc2121
X-SHOW-END-TIME:0
END:VEVENT
END:VCALENDAR