BEGIN:VCALENDAR
VERSION:2.0
PRODID:DPCALENDAR
CALSCALE:GREGORIAN
BEGIN:VTIMEZONE
TZID:Europe/Berlin
X-MICROSOFT-CDO-TZID:4
BEGIN:STANDARD
DTSTART:20251026T010000
TZOFFSETFROM:+0200
TZOFFSETTO:+0100
TZNAME:CET
END:STANDARD
BEGIN:STANDARD
DTSTART:20261025T010000
TZOFFSETFROM:+0200
TZOFFSETTO:+0100
TZNAME:CET
END:STANDARD
BEGIN:DAYLIGHT
DTSTART:20260329T010000
TZOFFSETFROM:+0100
TZOFFSETTO:+0200
TZNAME:CEST
END:DAYLIGHT
END:VTIMEZONE
X-WR-TIMEZONE:Europe/Berlin
BEGIN:VEVENT
DTSTART;TZID=Europe/Berlin:20241005T093000
DTEND;TZID=Europe/Berlin:20241005T103000
UID:8E8379BD-4826-4FC0-A680-2D89F2E020FD
SUMMARY:Beginn Qi Gong Kurs
CREATED:20240905T091134Z
DTSTAMP:20240905T091134Z
URL:https://www.tus-hoheneggelsen.de/index.php/home/veranstaltungen/beginn-qi-gong-kurs.html
LAST-MODIFIED:20240905T091134Z
SEQUENCE:0
LOCATION:Friedrich-Ludwig-Jahn-Straße 2\, 31185 Hoheneggelsen\, Niedersachsen
GEO:52.20673000;10.17998000
X-LOCATION-DISPLAYNAME:Bördehalle Hoheneggelsen
X-ACCESS:1
X-HITS:131
X-COLOR:51a351
X-SHOW-END-TIME:1
END:VEVENT
BEGIN:VEVENT
DTSTART;TZID=Europe/Berlin:20250307T190000
DTEND;TZID=Europe/Berlin:20250307T200000
UID:80740824-DD00-4A50-BD32-61245257A4F8
SUMMARY:Jahreshauptversammlung 
CREATED:20250225T191315Z
DTSTAMP:20250225T191315Z
URL:https://www.tus-hoheneggelsen.de/index.php/home/veranstaltungen/jahreshauptversammlung.html
DESCRIPTION:Tagesordnung Jahreshauptversammlung 2025
X-ALT-DESC;FMTTYPE=text/html:<p><span style="text-decoration: underline;"><span style="font-size: 12pt;"><a href="https://www.tus-hoheneggelsen.de/index.php?view=article&id=85:tagesordnung-jahreshauptversammlung-2026&catid=2">Tagesordnung Jahreshauptversammlung 2025</a></span></span></p>
LAST-MODIFIED:20250304T061115Z
SEQUENCE:557880
LOCATION:Friedrich-Ludwig-Jahn-Straße 2\, 31185 Hoheneggelsen\, Niedersachsen
GEO:52.20673000;10.17998000
X-LOCATION-DISPLAYNAME:Bördehalle Hoheneggelsen - "Georg-Wulfes-Saal"
X-ACCESS:1
X-HITS:103
X-COLOR:51a351
X-SHOW-END-TIME:0
END:VEVENT
BEGIN:VEVENT
DTSTART;TZID=Europe/Berlin:20250329T090000
DTEND;TZID=Europe/Berlin:20250329T130000
UID:E9E3744E-C470-4F65-B557-2CCFC68D61A0
SUMMARY:"Einladung“ zum Arbeitseinsatz
CREATED:20250318T114220Z
DTSTAMP:20250318T114220Z
URL:https://www.tus-hoheneggelsen.de/index.php/home/veranstaltungen/einladung-zum-arbeitseinsatz.html
DESCRIPTION:Was ist zu tun:  • Einbau neues Waschbecken Herrentoilette • Terrasse: Laub fegen, Unkraut entfernen • Terrasse Beleuchtung erneuern, def. Fugen vermörteln • Bouleplatz entkrauten und walzen • Ehem. Tennisplatz: u.a. Rückschnitt Buschwerk • Entlüfterdeckel Vereinsheim ersetzen • Dachrinne Ostseite reparieren • Tennisplatz: Umrandung mähen, kleinerer Rückschnitt • Sportplatz: Laufbahn Laub und Unkraut entfernen, flämmen und Flutlicht Scheibe und Leuchtmittel ersetzen • Krauten Beachvolleyballfeld und Sprunggrube • Bitte Persönliche Schutzausrüstung (Handschuhe, Schutzbrille, Sicherheitsschuhe) tragen und Werkzeug (z.B. Astscheren) mitbringen\NEs wäre sehr gut, wenn sich genug Freiwillige melden und ggf. anmelden. Vielen Dank im voraus.Bernd-Henning - immer erreichbar unter 0151 5070 1425
X-ALT-DESC;FMTTYPE=text/html:<p><span style="font-size: 14pt;">Was ist zu tun: <br /> • Einbau neues Waschbecken Herrentoilette<br /> • Terrasse: Laub fegen, Unkraut entfernen<br /> • Terrasse Beleuchtung erneuern, def. Fugen vermörteln<br /> • Bouleplatz entkrauten und walzen<br /> • Ehem. Tennisplatz: u.a. Rückschnitt Buschwerk<br /> • Entlüfterdeckel Vereinsheim ersetzen<br /> • Dachrinne Ostseite reparieren<br /> • Tennisplatz: Umrandung mähen, kleinerer Rückschnitt<br /> • Sportplatz: Laufbahn Laub und Unkraut entfernen, flämmen und Flutlicht Scheibe und Leuchtmittel ersetzen<br /> • Krauten Beachvolleyballfeld und Sprunggrube<br /> • Bitte Persönliche Schutzausrüstung (Handschuhe, Schutzbrille, Sicherheitsschuhe) tragen und Werkzeug (z.B. Astscheren) mitbringen</span></p><p><span style="font-size: 14pt;">Es wäre sehr gut, wenn sich genug Freiwillige melden und ggf. anmelden. Vielen Dank im voraus.<br />Bernd-Henning - immer erreichbar unter 0151 5070 1425</span></p>
LAST-MODIFIED:20250318T114220Z
SEQUENCE:0
LOCATION:Friedrich-Ludwig-Jahn-Straße 5\, 31185 Söhlde\, Niedersachsen
GEO:52.20643990;10.17850810
X-LOCATION-DISPLAYNAME:Vereinsheim TuS Hoheneggelsen von 1892 e. V.
X-ACCESS:1
X-HITS:122
X-COLOR:51a351
X-SHOW-END-TIME:1
END:VEVENT
BEGIN:VEVENT
DTSTART;TZID=Europe/Berlin:20250410T163000
DTEND;TZID=Europe/Berlin:20250410T173000
UID:80E4F0B4-468B-40A5-AAFE-670D820FC83F
SUMMARY:Treffen der Boule-Freunde
CREATED:20250401T121529Z
DTSTAMP:20250401T121529Z
URL:https://www.tus-hoheneggelsen.de/index.php/home/veranstaltungen/treffen-der-boule-freunde.html
LAST-MODIFIED:20250401T121529Z
SEQUENCE:0
LOCATION:Friedrich-Ludwig-Jahn-Straße 5\, 31185 Söhlde\, Niedersachsen\, Deutschland
GEO:52.20620535;10.17835880
X-LOCATION-DISPLAYNAME:Boule-Bahn TuS Hoheneggelsen von 1892 e. V.
X-ACCESS:1
X-HITS:80
X-COLOR:51a351
X-SHOW-END-TIME:0
END:VEVENT
BEGIN:VEVENT
DTSTART;TZID=Europe/Berlin:20250424T163000
DTEND;TZID=Europe/Berlin:20250424T173000
UID:C670ACB7-96EE-4879-AE0E-A5D1A04025FB
SUMMARY:Treffen der Boule-Freunde
CREATED:20250401T121529Z
DTSTAMP:20250401T121529Z
URL:https://www.tus-hoheneggelsen.de/index.php/home/veranstaltungen/treffen-der-boule-freunde-2.html
LAST-MODIFIED:20250401T121538Z
SEQUENCE:9
LOCATION:Friedrich-Ludwig-Jahn-Straße 5\, 31185 Söhlde\, Niedersachsen\, Deutschland
GEO:52.20620535;10.17835880
X-LOCATION-DISPLAYNAME:Boule-Bahn TuS Hoheneggelsen von 1892 e. V.
X-ACCESS:1
X-HITS:115
X-COLOR:51a351
X-SHOW-END-TIME:0
END:VEVENT
BEGIN:VEVENT
DTSTART;TZID=Europe/Berlin:20250508T163000
DTEND;TZID=Europe/Berlin:20250508T173000
UID:EC8324AA-4DC0-41BA-A5B6-4563D0A59FC2
SUMMARY:Treffen der Boule-Freunde
CREATED:20250401T121529Z
DTSTAMP:20250401T121529Z
URL:https://www.tus-hoheneggelsen.de/index.php/home/veranstaltungen/treffen-der-boule-freunde-3.html
LAST-MODIFIED:20250401T121550Z
SEQUENCE:21
LOCATION:Friedrich-Ludwig-Jahn-Straße 5\, 31185 Söhlde\, Niedersachsen\, Deutschland
GEO:52.20620535;10.17835880
X-LOCATION-DISPLAYNAME:Boule-Bahn TuS Hoheneggelsen von 1892 e. V.
X-ACCESS:1
X-HITS:119
X-COLOR:51a351
X-SHOW-END-TIME:0
END:VEVENT
BEGIN:VEVENT
DTSTART;TZID=Europe/Berlin:20250522T163000
DTEND;TZID=Europe/Berlin:20250522T173000
UID:9A7E3899-724E-4CAF-A58F-E7437DCC7844
SUMMARY:Treffen der Boule-Freunde
CREATED:20250401T121529Z
DTSTAMP:20250401T121529Z
URL:https://www.tus-hoheneggelsen.de/index.php/home/veranstaltungen/treffen-der-boule-freunde-4.html
LAST-MODIFIED:20250401T121558Z
SEQUENCE:29
LOCATION:Friedrich-Ludwig-Jahn-Straße 5\, 31185 Söhlde\, Niedersachsen\, Deutschland
GEO:52.20620535;10.17835880
X-LOCATION-DISPLAYNAME:Boule-Bahn TuS Hoheneggelsen von 1892 e. V.
X-ACCESS:1
X-HITS:179
X-COLOR:51a351
X-SHOW-END-TIME:0
END:VEVENT
BEGIN:VEVENT
DTSTART;TZID=Europe/Berlin:20250605T163000
DTEND;TZID=Europe/Berlin:20250605T173000
UID:FB766190-A37F-47AC-B846-28AF1FC369A5
SUMMARY:Treffen der Boule-Freunde
CREATED:20250401T121529Z
DTSTAMP:20250401T121529Z
URL:https://www.tus-hoheneggelsen.de/index.php/home/veranstaltungen/treffen-der-boule-freunde-5.html
LAST-MODIFIED:20250401T121608Z
SEQUENCE:39
LOCATION:Friedrich-Ludwig-Jahn-Straße 5\, 31185 Söhlde\, Niedersachsen\, Deutschland
GEO:52.20620535;10.17835880
X-LOCATION-DISPLAYNAME:Boule-Bahn TuS Hoheneggelsen von 1892 e. V.
X-ACCESS:1
X-HITS:107
X-COLOR:51a351
X-SHOW-END-TIME:0
END:VEVENT
BEGIN:VEVENT
DTSTART;TZID=Europe/Berlin:20250619T163000
DTEND;TZID=Europe/Berlin:20250619T173000
UID:4AAC907D-747A-42F6-9FFB-E51E48B979FB
SUMMARY:Treffen der Boule-Freunde
CREATED:20250401T121529Z
DTSTAMP:20250401T121529Z
URL:https://www.tus-hoheneggelsen.de/index.php/home/veranstaltungen/treffen-der-boule-freunde-6.html
LAST-MODIFIED:20250401T121616Z
SEQUENCE:47
LOCATION:Friedrich-Ludwig-Jahn-Straße 5\, 31185 Söhlde\, Niedersachsen\, Deutschland
GEO:52.20620535;10.17835880
X-LOCATION-DISPLAYNAME:Boule-Bahn TuS Hoheneggelsen von 1892 e. V.
X-ACCESS:1
X-HITS:127
X-COLOR:51a351
X-SHOW-END-TIME:0
END:VEVENT
BEGIN:VEVENT
DTSTART;TZID=Europe/Berlin:20250703T163000
DTEND;TZID=Europe/Berlin:20250703T173000
UID:14574E54-51EE-4C46-B928-3226CDE23B09
SUMMARY:Treffen der Boule-Freunde
CREATED:20250401T121529Z
DTSTAMP:20250401T121529Z
URL:https://www.tus-hoheneggelsen.de/index.php/home/veranstaltungen/treffen-der-boule-freunde-7.html
LAST-MODIFIED:20250401T121626Z
SEQUENCE:57
LOCATION:Friedrich-Ludwig-Jahn-Straße 5\, 31185 Söhlde\, Niedersachsen\, Deutschland
GEO:52.20620535;10.17835880
X-LOCATION-DISPLAYNAME:Boule-Bahn TuS Hoheneggelsen von 1892 e. V.
X-ACCESS:1
X-HITS:137
X-COLOR:51a351
X-SHOW-END-TIME:0
END:VEVENT
BEGIN:VEVENT
DTSTART;TZID=Europe/Berlin:20250717T163000
DTEND;TZID=Europe/Berlin:20250717T173000
UID:E34B5484-497F-4920-8FE5-6615921EE082
SUMMARY:Treffen der Boule-Freunde
CREATED:20250401T121529Z
DTSTAMP:20250401T121529Z
URL:https://www.tus-hoheneggelsen.de/index.php/home/veranstaltungen/treffen-der-boule-freunde-8.html
LAST-MODIFIED:20250401T121633Z
SEQUENCE:64
LOCATION:Friedrich-Ludwig-Jahn-Straße 5\, 31185 Söhlde\, Niedersachsen\, Deutschland
GEO:52.20620535;10.17835880
X-LOCATION-DISPLAYNAME:Boule-Bahn TuS Hoheneggelsen von 1892 e. V.
X-ACCESS:1
X-HITS:173
X-COLOR:51a351
X-SHOW-END-TIME:0
END:VEVENT
BEGIN:VEVENT
DTSTART;TZID=Europe/Berlin:20250731T163000
DTEND;TZID=Europe/Berlin:20250731T173000
UID:EF9663E0-7834-4D67-89E6-F10CFC1E955A
SUMMARY:Treffen der Boule-Freunde
CREATED:20250401T121529Z
DTSTAMP:20250401T121529Z
URL:https://www.tus-hoheneggelsen.de/index.php/home/veranstaltungen/treffen-der-boule-freunde-9.html
LAST-MODIFIED:20250401T121641Z
SEQUENCE:72
LOCATION:Friedrich-Ludwig-Jahn-Straße 5\, 31185 Söhlde\, Niedersachsen\, Deutschland
GEO:52.20620535;10.17835880
X-LOCATION-DISPLAYNAME:Boule-Bahn TuS Hoheneggelsen von 1892 e. V.
X-ACCESS:1
X-HITS:181
X-COLOR:51a351
X-SHOW-END-TIME:0
END:VEVENT
END:VCALENDAR